Package: rtracklayer Version: 1.67.1 Command: /Library/Frameworks/R.framework/Resources/bin/R CMD INSTALL rtracklayer StartedAt: 2025-02-20 15:08:18 -0500 (Thu, 20 Feb 2025) EndedAt: 2025-02-20 15:08:38 -0500 (Thu, 20 Feb 2025) EllapsedTime: 20.5 seconds RetCode: 0 Status: OK