Package: rtracklayer Version: 1.67.1 Command: /Library/Frameworks/R.framework/Resources/bin/R CMD check --install=check:rtracklayer.install-out.txt --library=/Library/Frameworks/R.framework/Resources/library --no-vignettes --timings rtracklayer_1.67.1.tar.gz StartedAt: 2025-02-20 21:09:38 -0500 (Thu, 20 Feb 2025) EndedAt: 2025-02-20 21:12:38 -0500 (Thu, 20 Feb 2025) EllapsedTime: 179.2 seconds RetCode: 0 Status: WARNINGS CheckDir: rtracklayer.Rcheck Warnings: 5