Package: rsemmed Version: 1.17.0 Command: /home/biocbuild/bbs-3.21-bioc/R/bin/R CMD INSTALL rsemmed StartedAt: 2025-02-20 15:17:00 -0500 (Thu, 20 Feb 2025) EndedAt: 2025-02-20 15:17:05 -0500 (Thu, 20 Feb 2025) EllapsedTime: 4.7 seconds RetCode: 0 Status: OK