Package: rsemmed Version: 1.17.0 Command: /home/biocbuild/R/R/bin/R CMD build --keep-empty-dirs --no-resave-data rsemmed StartedAt: 2025-01-29 01:52:18 -0000 (Wed, 29 Jan 2025) EndedAt: 2025-01-29 01:52:49 -0000 (Wed, 29 Jan 2025) EllapsedTime: 31.0 seconds RetCode: 0 Status: OK PackageFile: rsemmed_1.17.0.tar.gz PackageFileSize: 1.863 MiB