Package: rsemmed Version: 1.17.0 Command: /Library/Frameworks/R.framework/Resources/bin/R CMD build --keep-empty-dirs --no-resave-data rsemmed StartedAt: 2025-02-19 17:28:38 -0500 (Wed, 19 Feb 2025) EndedAt: 2025-02-19 17:28:47 -0500 (Wed, 19 Feb 2025) EllapsedTime: 9.1 seconds RetCode: 0 Status: OK PackageFile: rsemmed_1.17.0.tar.gz PackageFileSize: 2.167 MiB