Package: rsbml Version: 2.65.0 Command: rm -rf rsbml.buildbin-libdir && mkdir rsbml.buildbin-libdir && E:\biocbuild\bbs-3.21-bioc\R\bin\R.exe CMD INSTALL --build --library=rsbml.buildbin-libdir rsbml_2.65.0.tar.gz StartedAt: 2025-02-21 08:58:09 -0500 (Fri, 21 Feb 2025) EndedAt: 2025-02-21 09:01:17 -0500 (Fri, 21 Feb 2025) EllapsedTime: 188.3 seconds RetCode: 0 Status: OK PackageFile: rsbml_2.65.0.zip PackageFileSize: 6.516 MiB