Package: rsbml Version: 2.65.0 Command: /home/biocbuild/bbs-3.21-bioc/R/bin/R CMD INSTALL rsbml StartedAt: 2025-02-20 15:21:17 -0500 (Thu, 20 Feb 2025) EndedAt: 2025-02-20 15:21:21 -0500 (Thu, 20 Feb 2025) EllapsedTime: 3.8 seconds RetCode: 1 Status: ERROR