Package: rsbml Version: 2.65.0 Command: /home/biocbuild/bbs-3.21-bioc/R/bin/R CMD check --install=check:rsbml.install-out.txt --library=/home/biocbuild/bbs-3.21-bioc/R/site-library --timings rsbml_2.65.0.tar.gz StartedAt: 2025-02-20 01:58:26 -0500 (Thu, 20 Feb 2025) EndedAt: 2025-02-20 01:59:09 -0500 (Thu, 20 Feb 2025) EllapsedTime: 43.0 seconds RetCode: 0 Status: WARNINGS CheckDir: rsbml.Rcheck Warnings: 1