Package: rsbml Version: 2.65.0 Command: /home/biocbuild/bbs-3.21-bioc/R/bin/R CMD build --keep-empty-dirs --no-resave-data rsbml StartedAt: 2025-02-20 19:02:52 -0500 (Thu, 20 Feb 2025) EndedAt: 2025-02-20 19:02:56 -0500 (Thu, 20 Feb 2025) EllapsedTime: 4.0 seconds RetCode: 1 Status: ERROR PackageFile: None PackageFileSize: NA