Package: rrvgo Version: 1.19.0 Command: rm -rf rrvgo.buildbin-libdir && mkdir rrvgo.buildbin-libdir && E:\biocbuild\bbs-3.21-bioc\R\bin\R.exe CMD INSTALL --build --library=rrvgo.buildbin-libdir rrvgo_1.19.0.tar.gz StartedAt: 2025-02-21 08:58:04 -0500 (Fri, 21 Feb 2025) EndedAt: 2025-02-21 08:58:31 -0500 (Fri, 21 Feb 2025) EllapsedTime: 27.0 seconds RetCode: 0 Status: OK PackageFile: rrvgo_1.19.0.zip PackageFileSize: 1.075 MiB