Package: rrvgo Version: 1.19.0 Command: /Library/Frameworks/R.framework/Resources/bin/R CMD check --install=check:rrvgo.install-out.txt --library=/Library/Frameworks/R.framework/Resources/library --no-vignettes --timings rrvgo_1.19.0.tar.gz StartedAt: 2025-02-20 22:54:07 -0500 (Thu, 20 Feb 2025) EndedAt: 2025-02-20 23:24:24 -0500 (Thu, 20 Feb 2025) EllapsedTime: 1817.2 seconds RetCode: 0 Status: OK CheckDir: rrvgo.Rcheck Warnings: 0