Package: rrvgo Version: 1.19.0 Command: /Library/Frameworks/R.framework/Resources/bin/R CMD build --keep-empty-dirs --no-resave-data rrvgo StartedAt: 2025-02-20 18:03:53 -0500 (Thu, 20 Feb 2025) EndedAt: 2025-02-20 18:08:22 -0500 (Thu, 20 Feb 2025) EllapsedTime: 269.1 seconds RetCode: 0 Status: OK PackageFile: rrvgo_1.19.0.tar.gz PackageFileSize: 1.875 MiB