Package: rrvgo Version: 1.19.0 Command: /home/biocbuild/R/R/bin/R CMD INSTALL rrvgo StartedAt: 2025-01-29 20:07:06 -0000 (Wed, 29 Jan 2025) EndedAt: 2025-01-29 20:07:33 -0000 (Wed, 29 Jan 2025) EllapsedTime: 26.7 seconds RetCode: 0 Status: OK