Package: rqubic Version: 1.53.0 Command: chmod a+r rqubic -R && E:\biocbuild\bbs-3.21-bioc\R\bin\R.exe CMD build --keep-empty-dirs --no-resave-data rqubic StartedAt: 2025-02-20 21:24:18 -0500 (Thu, 20 Feb 2025) EndedAt: 2025-02-20 21:25:27 -0500 (Thu, 20 Feb 2025) EllapsedTime: 68.8 seconds RetCode: 0 Status: OK PackageFile: rqubic_1.53.0.tar.gz PackageFileSize: 189.9 KiB