Package: rqubic Version: 1.53.0 Command: rm -rf rqubic.buildbin-libdir && mkdir rqubic.buildbin-libdir && E:\biocbuild\bbs-3.21-bioc\R\bin\R.exe CMD INSTALL --build --library=rqubic.buildbin-libdir rqubic_1.53.0.tar.gz StartedAt: 2025-02-21 08:57:54 -0500 (Fri, 21 Feb 2025) EndedAt: 2025-02-21 08:58:33 -0500 (Fri, 21 Feb 2025) EllapsedTime: 39.0 seconds RetCode: 0 Status: OK PackageFile: rqubic_1.53.0.zip PackageFileSize: 437.1 KiB