Package: rqubic Version: 1.53.0 Command: /Library/Frameworks/R.framework/Resources/bin/R CMD INSTALL rqubic StartedAt: 2025-02-20 15:37:27 -0500 (Thu, 20 Feb 2025) EndedAt: 2025-02-20 15:37:40 -0500 (Thu, 20 Feb 2025) EllapsedTime: 13.3 seconds RetCode: 0 Status: OK