Package: rqubic Version: 1.53.0 Command: /Library/Frameworks/R.framework/Resources/bin/R CMD check --install=check:rqubic.install-out.txt --library=/Library/Frameworks/R.framework/Resources/library --no-vignettes --timings rqubic_1.53.0.tar.gz StartedAt: 2025-02-20 22:53:54 -0500 (Thu, 20 Feb 2025) EndedAt: 2025-02-20 22:55:03 -0500 (Thu, 20 Feb 2025) EllapsedTime: 68.9 seconds RetCode: 0 Status: OK CheckDir: rqubic.Rcheck Warnings: 0