Package: rqubic Version: 1.53.0 Command: /Library/Frameworks/R.framework/Resources/bin/R CMD build --keep-empty-dirs --no-resave-data rqubic StartedAt: 2025-02-20 18:03:40 -0500 (Thu, 20 Feb 2025) EndedAt: 2025-02-20 18:04:01 -0500 (Thu, 20 Feb 2025) EllapsedTime: 20.6 seconds RetCode: 0 Status: OK PackageFile: rqubic_1.53.0.tar.gz PackageFileSize: 189.3 KiB