Package: rqubic Version: 1.53.0 Command: /Library/Frameworks/R.framework/Resources/bin/R CMD check --install=check:rqubic.install-out.txt --library=/Library/Frameworks/R.framework/Resources/library --no-vignettes --timings rqubic_1.53.0.tar.gz StartedAt: 2025-02-21 21:45:36 -0500 (Fri, 21 Feb 2025) EndedAt: 2025-02-21 21:46:00 -0500 (Fri, 21 Feb 2025) EllapsedTime: 23.3 seconds RetCode: 0 Status: OK CheckDir: rqubic.Rcheck Warnings: 0