Package: rqt Version: 1.33.0 Command: /home/biocbuild/bbs-3.21-bioc/R/bin/R CMD build --keep-empty-dirs --no-resave-data rqt StartedAt: 2025-02-18 18:52:10 -0500 (Tue, 18 Feb 2025) EndedAt: 2025-02-18 18:52:53 -0500 (Tue, 18 Feb 2025) EllapsedTime: 43.1 seconds RetCode: 0 Status: OK PackageFile: rqt_1.33.0.tar.gz PackageFileSize: 541.3 KiB