Package: rqt Version: 1.33.0 Command: /Library/Frameworks/R.framework/Resources/bin/R CMD build --keep-empty-dirs --no-resave-data rqt StartedAt: 2025-02-18 17:29:32 -0500 (Tue, 18 Feb 2025) EndedAt: 2025-02-18 17:29:52 -0500 (Tue, 18 Feb 2025) EllapsedTime: 19.2 seconds RetCode: 0 Status: OK PackageFile: rqt_1.33.0.tar.gz PackageFileSize: 541.3 KiB