Package: rpx Version: 2.15.1 Command: chmod a+r rpx -R && E:\biocbuild\bbs-3.21-bioc\R\bin\R.exe CMD build --keep-empty-dirs --no-resave-data rpx StartedAt: 2025-02-18 21:13:35 -0500 (Tue, 18 Feb 2025) EndedAt: 2025-02-18 21:14:03 -0500 (Tue, 18 Feb 2025) EllapsedTime: 27.8 seconds RetCode: 0 Status: OK PackageFile: rpx_2.15.1.tar.gz PackageFileSize: 316.9 KiB