Package: rpx Version: 2.15.1 Command: /home/biocbuild/bbs-3.21-bioc/R/bin/R CMD INSTALL rpx StartedAt: 2025-02-18 15:08:01 -0500 (Tue, 18 Feb 2025) EndedAt: 2025-02-18 15:08:06 -0500 (Tue, 18 Feb 2025) EllapsedTime: 5.4 seconds RetCode: 0 Status: OK