Package: rpx Version: 2.15.1 Command: /home/biocbuild/bbs-3.21-bioc/R/bin/R CMD check --install=check:rpx.install-out.txt --library=/home/biocbuild/bbs-3.21-bioc/R/site-library --timings rpx_2.15.1.tar.gz StartedAt: 2025-02-19 01:41:33 -0500 (Wed, 19 Feb 2025) EndedAt: 2025-02-19 01:42:33 -0500 (Wed, 19 Feb 2025) EllapsedTime: 60.1 seconds RetCode: 0 Status: OK CheckDir: rpx.Rcheck Warnings: 0