Package: rprimer Version: 1.11.0 Command: /home/biocbuild/bbs-3.21-bioc/R/bin/R CMD INSTALL rprimer StartedAt: 2025-02-18 15:28:08 -0500 (Tue, 18 Feb 2025) EndedAt: 2025-02-18 15:28:25 -0500 (Tue, 18 Feb 2025) EllapsedTime: 17.2 seconds RetCode: 0 Status: OK