Package: rprimer Version: 1.11.0 Command: /Library/Frameworks/R.framework/Resources/bin/R CMD INSTALL rprimer StartedAt: 2025-02-19 15:26:56 -0500 (Wed, 19 Feb 2025) EndedAt: 2025-02-19 15:27:20 -0500 (Wed, 19 Feb 2025) EllapsedTime: 24.2 seconds RetCode: 0 Status: OK