Package: rprimer Version: 1.11.0 Command: /Library/Frameworks/R.framework/Resources/bin/R CMD check --install=check:rprimer.install-out.txt --library=/Library/Frameworks/R.framework/Resources/library --no-vignettes --timings rprimer_1.11.0.tar.gz StartedAt: 2025-02-20 22:53:12 -0500 (Thu, 20 Feb 2025) EndedAt: 2025-02-20 22:56:35 -0500 (Thu, 20 Feb 2025) EllapsedTime: 203.5 seconds RetCode: 0 Status: OK CheckDir: rprimer.Rcheck Warnings: 0