Package: ropls Version: 1.39.0 Command: E:\biocbuild\bbs-3.21-bioc\R\bin\R.exe CMD check --no-multiarch --install=check:ropls.install-out.txt --library=E:\biocbuild\bbs-3.21-bioc\R\library --no-vignettes --timings ropls_1.39.0.tar.gz StartedAt: 2025-02-21 05:08:58 -0500 (Fri, 21 Feb 2025) EndedAt: 2025-02-21 05:13:38 -0500 (Fri, 21 Feb 2025) EllapsedTime: 280.2 seconds RetCode: 0 Status: OK CheckDir: ropls.Rcheck Warnings: 0