Package: ropls Version: 1.39.0 Command: /home/biocbuild/bbs-3.21-bioc/R/bin/R CMD build --keep-empty-dirs --no-resave-data ropls StartedAt: 2025-02-20 19:01:55 -0500 (Thu, 20 Feb 2025) EndedAt: 2025-02-20 19:03:02 -0500 (Thu, 20 Feb 2025) EllapsedTime: 67.1 seconds RetCode: 0 Status: OK PackageFile: ropls_1.39.0.tar.gz PackageFileSize: 5.603 MiB