Package: ropls Version: 1.39.0 Command: /Library/Frameworks/R.framework/Resources/bin/R CMD build --keep-empty-dirs --no-resave-data ropls StartedAt: 2025-02-20 18:03:06 -0500 (Thu, 20 Feb 2025) EndedAt: 2025-02-20 18:04:23 -0500 (Thu, 20 Feb 2025) EllapsedTime: 77.9 seconds RetCode: 0 Status: OK PackageFile: ropls_1.39.0.tar.gz PackageFileSize: 5.54 MiB