Package: ropls Version: 1.39.0 Command: rm -rf ropls.buildbin-libdir && mkdir ropls.buildbin-libdir && /Users/biocbuild/BBS/utils/build-universal.sh ropls_1.39.0.tar.gz /Library/Frameworks/R.framework/Resources/bin/R ropls.buildbin-libdir StartedAt: 2025-02-21 00:50:05 -0500 (Fri, 21 Feb 2025) EndedAt: 2025-02-21 00:50:49 -0500 (Fri, 21 Feb 2025) EllapsedTime: 43.9 seconds RetCode: 0 Status: OK PackageFile: ropls_1.39.0.tgz PackageFileSize: 6.067 MiB