Package: rols Version: 3.3.0 Command: /home/biocbuild/bbs-3.21-bioc/R/bin/R CMD build --keep-empty-dirs --no-resave-data rols StartedAt: 2025-02-18 18:51:27 -0500 (Tue, 18 Feb 2025) EndedAt: 2025-02-18 18:52:04 -0500 (Tue, 18 Feb 2025) EllapsedTime: 37.0 seconds RetCode: 0 Status: OK PackageFile: rols_3.3.0.tar.gz PackageFileSize: 389.9 KiB