Package: rols Version: 3.3.0 Command: /Library/Frameworks/R.framework/Resources/bin/R CMD INSTALL rols StartedAt: 2025-02-18 15:07:46 -0500 (Tue, 18 Feb 2025) EndedAt: 2025-02-18 15:08:14 -0500 (Tue, 18 Feb 2025) EllapsedTime: 28.3 seconds RetCode: 0 Status: OK