Package: rols Version: 3.3.0 Command: /Library/Frameworks/R.framework/Resources/bin/R CMD check --install=check:rols.install-out.txt --library=/Library/Frameworks/R.framework/Resources/library --no-vignettes --timings rols_3.3.0.tar.gz StartedAt: 2025-02-18 22:46:40 -0500 (Tue, 18 Feb 2025) EndedAt: 2025-02-18 22:49:06 -0500 (Tue, 18 Feb 2025) EllapsedTime: 145.3 seconds RetCode: 0 Status: OK CheckDir: rols.Rcheck Warnings: 0