Package: rols Version: 3.3.0 Command: /Library/Frameworks/R.framework/Resources/bin/R CMD INSTALL rols StartedAt: 2025-02-18 15:03:47 -0500 (Tue, 18 Feb 2025) EndedAt: 2025-02-18 15:03:50 -0500 (Tue, 18 Feb 2025) EllapsedTime: 2.2 seconds RetCode: 0 Status: OK