Package: rols Version: 3.3.0 Command: /Library/Frameworks/R.framework/Resources/bin/R CMD build --keep-empty-dirs --no-resave-data rols StartedAt: 2025-02-18 17:29:05 -0500 (Tue, 18 Feb 2025) EndedAt: 2025-02-18 17:29:32 -0500 (Tue, 18 Feb 2025) EllapsedTime: 27.3 seconds RetCode: 0 Status: OK PackageFile: rols_3.3.0.tar.gz PackageFileSize: 389.9 KiB