Package: rols Version: 3.3.0 Command: rm -rf rols.buildbin-libdir && mkdir rols.buildbin-libdir && /Users/biocbuild/BBS/utils/build-universal.sh rols_3.3.0.tar.gz /Library/Frameworks/R.framework/Resources/bin/R rols.buildbin-libdir StartedAt: 2025-02-18 22:35:47 -0500 (Tue, 18 Feb 2025) EndedAt: 2025-02-18 22:35:50 -0500 (Tue, 18 Feb 2025) EllapsedTime: 3.1 seconds RetCode: 0 Status: OK PackageFile: rols_3.3.0.tgz PackageFileSize: 653.5 KiB