Package: roastgsa Version: 1.5.0 Command: /home/biocbuild/bbs-3.21-bioc/R/bin/R CMD check --install=check:roastgsa.install-out.txt --library=/home/biocbuild/bbs-3.21-bioc/R/site-library --timings roastgsa_1.5.0.tar.gz StartedAt: 2025-02-19 01:38:39 -0500 (Wed, 19 Feb 2025) EndedAt: 2025-02-19 01:41:11 -0500 (Wed, 19 Feb 2025) EllapsedTime: 152.1 seconds RetCode: 0 Status: OK CheckDir: roastgsa.Rcheck Warnings: 0