Package: roastgsa Version: 1.5.0 Command: /Library/Frameworks/R.framework/Resources/bin/R CMD build --keep-empty-dirs --no-resave-data roastgsa StartedAt: 2025-02-18 18:00:25 -0500 (Tue, 18 Feb 2025) EndedAt: 2025-02-18 18:01:57 -0500 (Tue, 18 Feb 2025) EllapsedTime: 91.4 seconds RetCode: 0 Status: OK PackageFile: roastgsa_1.5.0.tar.gz PackageFileSize: 2.139 MiB