Package: roastgsa Version: 1.5.0 Command: /Library/Frameworks/R.framework/Resources/bin/R CMD INSTALL roastgsa StartedAt: 2025-02-18 15:05:47 -0500 (Tue, 18 Feb 2025) EndedAt: 2025-02-18 15:05:50 -0500 (Tue, 18 Feb 2025) EllapsedTime: 2.7 seconds RetCode: 0 Status: OK