Package: roar Version: 1.43.0 Command: /home/biocbuild/bbs-3.21-bioc/R/bin/R CMD INSTALL roar StartedAt: 2025-02-20 15:43:55 -0500 (Thu, 20 Feb 2025) EndedAt: 2025-02-20 15:44:28 -0500 (Thu, 20 Feb 2025) EllapsedTime: 33.0 seconds RetCode: 0 Status: OK