Package: roar Version: 1.43.0 Command: /home/biocbuild/bbs-3.21-bioc/R/bin/R CMD check --install=check:roar.install-out.txt --library=/home/biocbuild/bbs-3.21-bioc/R/site-library --timings roar_1.43.0.tar.gz StartedAt: 2025-02-21 01:19:49 -0500 (Fri, 21 Feb 2025) EndedAt: 2025-02-21 01:25:06 -0500 (Fri, 21 Feb 2025) EllapsedTime: 317.5 seconds RetCode: 0 Status: OK CheckDir: roar.Rcheck Warnings: 0