Package: roar Version: 1.43.0 Command: /home/biocbuild/bbs-3.21-bioc/R/bin/R CMD build --keep-empty-dirs --no-resave-data roar StartedAt: 2025-02-20 19:01:12 -0500 (Thu, 20 Feb 2025) EndedAt: 2025-02-20 19:02:58 -0500 (Thu, 20 Feb 2025) EllapsedTime: 106.2 seconds RetCode: 0 Status: OK PackageFile: roar_1.43.0.tar.gz PackageFileSize: 901.7 KiB