Package: rnaseqcomp Version: 1.37.0 Command: /Library/Frameworks/R.framework/Resources/bin/R CMD build --keep-empty-dirs --no-resave-data rnaseqcomp StartedAt: 2025-02-20 18:01:51 -0500 (Thu, 20 Feb 2025) EndedAt: 2025-02-20 18:02:15 -0500 (Thu, 20 Feb 2025) EllapsedTime: 24.0 seconds RetCode: 0 Status: OK PackageFile: rnaseqcomp_1.37.0.tar.gz PackageFileSize: 1.531 MiB