Package: rnaseqcomp Version: 1.37.0 Command: /Library/Frameworks/R.framework/Resources/bin/R CMD build --keep-empty-dirs --no-resave-data rnaseqcomp StartedAt: 2025-02-19 17:27:07 -0500 (Wed, 19 Feb 2025) EndedAt: 2025-02-19 17:27:17 -0500 (Wed, 19 Feb 2025) EllapsedTime: 10.1 seconds RetCode: 0 Status: OK PackageFile: rnaseqcomp_1.37.0.tar.gz PackageFileSize: 1.532 MiB