Package: rnaEditr Version: 1.17.0 Command: chmod a+r rnaEditr -R && E:\biocbuild\bbs-3.21-bioc\R\bin\R.exe CMD build --keep-empty-dirs --no-resave-data rnaEditr StartedAt: 2025-02-19 21:14:46 -0500 (Wed, 19 Feb 2025) EndedAt: 2025-02-19 21:16:10 -0500 (Wed, 19 Feb 2025) EllapsedTime: 83.9 seconds RetCode: 0 Status: OK PackageFile: rnaEditr_1.17.0.tar.gz PackageFileSize: 1.052 MiB