Package: rnaEditr Version: 1.17.0 Command: /Library/Frameworks/R.framework/Resources/bin/R CMD INSTALL rnaEditr StartedAt: 2025-02-19 15:34:13 -0500 (Wed, 19 Feb 2025) EndedAt: 2025-02-19 15:35:02 -0500 (Wed, 19 Feb 2025) EllapsedTime: 49.1 seconds RetCode: 0 Status: OK