Package: rnaEditr Version: 1.17.0 Command: /Library/Frameworks/R.framework/Resources/bin/R CMD check --install=check:rnaEditr.install-out.txt --library=/Library/Frameworks/R.framework/Resources/library --no-vignettes --timings rnaEditr_1.17.0.tar.gz StartedAt: 2025-02-19 21:07:41 -0500 (Wed, 19 Feb 2025) EndedAt: 2025-02-19 21:09:34 -0500 (Wed, 19 Feb 2025) EllapsedTime: 112.3 seconds RetCode: 0 Status: WARNINGS CheckDir: rnaEditr.Rcheck Warnings: 1