Package: rnaEditr Version: 1.17.0 Command: /Library/Frameworks/R.framework/Resources/bin/R CMD build --keep-empty-dirs --no-resave-data rnaEditr StartedAt: 2025-02-19 17:26:43 -0500 (Wed, 19 Feb 2025) EndedAt: 2025-02-19 17:27:07 -0500 (Wed, 19 Feb 2025) EllapsedTime: 24.3 seconds RetCode: 0 Status: OK PackageFile: rnaEditr_1.17.0.tar.gz PackageFileSize: 1.085 MiB