Package: rmelting Version: 1.23.0 Command: /Library/Frameworks/R.framework/Resources/bin/R CMD check --install=check:rmelting.install-out.txt --library=/Library/Frameworks/R.framework/Resources/library --no-vignettes --timings rmelting_1.23.0.tar.gz StartedAt: 2025-02-19 22:49:04 -0500 (Wed, 19 Feb 2025) EndedAt: 2025-02-19 22:49:54 -0500 (Wed, 19 Feb 2025) EllapsedTime: 50.5 seconds RetCode: 0 Status: OK CheckDir: rmelting.Rcheck Warnings: 0